BEGIN:VCALENDAR
VERSION:2.0
PRODID:-//eventon.com NONSGML v1.0//EN
CALSCALE:GREGORIAN
METHOD:PUBLISH
BEGIN:VEVENT
UID:69e765f0ecac4
DTSTAMP:20260421T115632Z
DTSTART:20250607T100000Z
DTEND:20250607T130000Z
LOCATION:
SUMMARY:Penfield Community Baby Shower
DESCRIPTION:Expecting mothers in our community are invited to join us for a
  free baby shower. Moms will receive pregnancy and newborn resources\,  bab
 y gifts and light refreshments. Spots are limited\,  you must RSVP to recei
 eve baby gifts. &nbsp; RSVP: https://docs.google.com/forms/d/e/1FAIpQLSdgIL
 f9dVo4UWaaxR6wMfoRD0QTcsQJeOQclDpzMcOBojL5pA/viewform &nbsp;\nhttps://penfi
 eldchildren.org/events/penfield-community-baby-shower/
URL:https://penfieldchildren.org/events/penfield-community-baby-shower/
END:VEVENT
END:VCALENDAR